2.438400000000
0.000000000000
0.000000000000
-2.438400000000
245024.290751107183
3294588.876361906994
