2.438400
0.000000
0.000000
-2.438400
777943.258515
3281659.992162
