2.438400000000
0.000000000000
0.000000000000
-2.438400000000
310018.320046148260
3542774.833540489900
