2.43839999999999210
0.00000000000000000
0.00000000000000000
-2.43839999999998150
748213.47977199999000000
3502751.77687999980000000
