2.438400000000
0.000000000000
0.000000000000
-2.438400000000
582440.535468035260
3472180.723304121300
