2.438400000000
0.000000000000
0.000000000000
-2.438400000000
280163.277625002142
3793013.725195039529
